BEGIN:VCALENDAR
VERSION:2.0
PRODID:-//MediaDesign//MediaDesign.at//DE
CALSCALE:GREGORIAN
BEGIN:VEVENT
DTSTART:20260516T160000
DTEND:20260516T170000
LOCATION:Wiener Straße 2\, 3580 Horn
DTSTAMP:20260420T121809
SUMMARY:PopupGalerie  Vernissage
URL;VALUE=URI:https://horn.gv.at
DESCRIPTION:Adem Klr und Martina Besti 
UID:20260420T121809-20260516T160000-20260516T170000
END:VEVENT
END:VCALENDAR