BEGIN:VCALENDAR
VERSION:2.0
PRODID:-//MediaDesign//MediaDesign.at//DE
CALSCALE:GREGORIAN
BEGIN:VEVENT
DTSTART:20260510T150000
DTEND:20260510T160000
LOCATION:Wiener Straße 2\, 3580 Horn
DTSTAMP:20260419T214016
SUMMARY:PopupGalerie 
URL;VALUE=URI:https://horn.gv.at
DESCRIPTION:Anton Steindl
UID:20260419T214016-20260510T150000-20260510T160000
END:VEVENT
END:VCALENDAR