BEGIN:VCALENDAR
VERSION:2.0
PRODID:-//MediaDesign//MediaDesign.at//DE
CALSCALE:GREGORIAN
BEGIN:VEVENT
DTSTART:20260508T170000
DTEND:20260508T180000
LOCATION:Wiener Straße 2\, 3580 Horn
DTSTAMP:20260419T123100
SUMMARY:PopupGalerie 
URL;VALUE=URI:https://horn.gv.at
DESCRIPTION:Anton Steindl
UID:20260419T123100-20260508T170000-20260508T180000
END:VEVENT
END:VCALENDAR