BEGIN:VCALENDAR
VERSION:2.0
PRODID:-//MediaDesign//MediaDesign.at//DE
CALSCALE:GREGORIAN
BEGIN:VEVENT
DTSTART:20260530T093000
DTEND:20260530T103000
LOCATION:Geras
DTSTAMP:20260422T004707
SUMMARY:AVFAMILIENWANDERUNG
URL;VALUE=URI:https://horn.gv.at
DESCRIPTION:Naturpark Geras
UID:20260422T004707-20260530T093000-20260530T103000
END:VEVENT
END:VCALENDAR