BEGIN:VCALENDAR
VERSION:2.0
PRODID:-//MediaDesign//MediaDesign.at//DE
CALSCALE:GREGORIAN
BEGIN:VEVENT
DTSTART:20260510T060000
DTEND:20260510T070000
LOCATION:Kieselbreitengasse\, 3580 Horn
DTSTAMP:20260419T202110
SUMMARY:AVBergtour
URL;VALUE=URI:https://horn.gv.at
DESCRIPTION:PlankensteinGrntalkogelhtte
UID:20260419T202110-20260510T060000-20260510T070000
END:VEVENT
END:VCALENDAR