BEGIN:VCALENDAR
VERSION:2.0
PRODID:-//MediaDesign//MediaDesign.at//DE
CALSCALE:GREGORIAN
BEGIN:VEVENT
DTSTART:20260602T170000
DTEND:20260602T180000
LOCATION:Robert-Hamerling-Straße 1\, 3580 Horn
DTSTAMP:20260422T100556
SUMMARY:Gymnastikstunde
URL;VALUE=URI:https://horn.gv.at
DESCRIPTION:Horner Pensionisten
UID:20260422T100556-20260602T170000-20260602T180000
END:VEVENT
END:VCALENDAR