BEGIN:VCALENDAR
VERSION:2.0
PRODID:-//MediaDesign//MediaDesign.at//DE
CALSCALE:GREGORIAN
BEGIN:VEVENT
DTSTART:20260602T150000
DTEND:20260602T160000
LOCATION:Mödringer Straße 17\, 3580 Horn
DTSTAMP:20260422T082744
SUMMARY:Seniorencafe
URL;VALUE=URI:https://horn.gv.at
DESCRIPTION:Horner Pensionisten
UID:20260422T082744-20260602T150000-20260602T160000
END:VEVENT
END:VCALENDAR