BEGIN:VCALENDAR
VERSION:2.0
PRODID:-//MediaDesign//MediaDesign.at//DE
CALSCALE:GREGORIAN
BEGIN:VEVENT
DTSTART:20260513T140000
DTEND:20260513T150000
LOCATION:Kieselbreitengasse\, 3580 Horn
DTSTAMP:20260420T005713
SUMMARY:Horner Pensionisten Nordic Walking
URL;VALUE=URI:https://horn.gv.at
DESCRIPTION:mit Elfriede Zuba
UID:20260420T005713-20260513T140000-20260513T150000
END:VEVENT
END:VCALENDAR