BEGIN:VCALENDAR
VERSION:2.0
PRODID:-//MediaDesign//MediaDesign.at//DE
CALSCALE:GREGORIAN
BEGIN:VEVENT
DTSTART:20260530T193000
DTEND:20260530T203000
LOCATION:Robert-Hamerling-Straße 9\, 3580 Horn
DTSTAMP:20260422T052914
SUMMARY:GMV Jubilumskonzert
URL;VALUE=URI:https://horn.gv.at
DESCRIPTION:Carmina Burana
UID:20260422T052914-20260530T193000-20260530T203000
END:VEVENT
END:VCALENDAR