BEGIN:VCALENDAR
VERSION:2.0
PRODID:-//MediaDesign//MediaDesign.at//DE
CALSCALE:GREGORIAN
BEGIN:VEVENT
DTSTART:20260526T120000
DTEND:20260526T130000
LOCATION:Hopfengartenstraße 21/2\, 3580 Horn
DTSTAMP:20260421T083740
SUMMARY:Demenz InfoPoint
URL;VALUE=URI:https://horn.gv.at
DESCRIPTION:im Kundenservice der GK
UID:20260421T083740-20260526T120000-20260526T130000
END:VEVENT
END:VCALENDAR