BEGIN:VCALENDAR
VERSION:2.0
PRODID:-//MediaDesign//MediaDesign.at//DE
CALSCALE:GREGORIAN
BEGIN:VEVENT
DTSTART:20260516T100000
DTEND:20260516T110000
LOCATION:Riedenburgstraße\, 3580 Horn
DTSTAMP:20260420T104341
SUMMARY:Pflanzentauschmarkt 
URL;VALUE=URI:https://horn.gv.at
DESCRIPTION:Die Grnen Horn
UID:20260420T104341-20260516T100000-20260516T110000
END:VEVENT
END:VCALENDAR