BEGIN:VCALENDAR
VERSION:2.0
PRODID:-//MediaDesign//MediaDesign.at//DE
CALSCALE:GREGORIAN
BEGIN:VEVENT
DTSTART:20260507T183000
DTEND:20260507T193000
LOCATION:Kirchenplatz 1\, 3580 Horn
DTSTAMP:20260419T110118
SUMMARY:Statt Ditwahn gesunder Genuss
URL;VALUE=URI:https://horn.gv.at
DESCRIPTION:GKErnhrungsvortrag
UID:20260419T110118-20260507T183000-20260507T193000
END:VEVENT
END:VCALENDAR