BEGIN:VCALENDAR
VERSION:2.0
PRODID:-//MediaDesign//MediaDesign.at//DE
CALSCALE:GREGORIAN
BEGIN:VEVENT
DTSTART:20260527T080000
DTEND:20260527T090000
LOCATION:3601 Dürnstein
DTSTAMP:20260421T132042
SUMMARY:Betreutes Reisen
URL;VALUE=URI:https://horn.gv.at
DESCRIPTION:Frhlingsfahrt  Drnstein
UID:20260421T132042-20260527T080000-20260527T090000
END:VEVENT
END:VCALENDAR