BEGIN:VCALENDAR
VERSION:2.0
PRODID:-//MediaDesign//MediaDesign.at//DE
CALSCALE:GREGORIAN
BEGIN:VEVENT
DTSTART:20260513T193000
DTEND:20260513T203000
LOCATION:Wiener Straße 2\, 3580 Horn
DTSTAMP:20260420T055533
SUMMARY:JeunesseKonzert
URL;VALUE=URI:https://horn.gv.at
DESCRIPTION:Trombone Attraction  Collage
UID:20260420T055533-20260513T193000-20260513T203000
END:VEVENT
END:VCALENDAR