BEGIN:VCALENDAR
VERSION:2.0
PRODID:-//MediaDesign//MediaDesign.at//DE
CALSCALE:GREGORIAN
BEGIN:VEVENT
DTSTART:20260513T160000
DTEND:20260513T170000
LOCATION:Wiener Straße 2\, 3580 Horn
DTSTAMP:20260420T024354
SUMMARY:Jeunesse Familienkonzert
URL;VALUE=URI:https://horn.gv.at
DESCRIPTION:Mission Planet B
UID:20260420T024354-20260513T160000-20260513T170000
END:VEVENT
END:VCALENDAR