BEGIN:VCALENDAR
VERSION:2.0
PRODID:-//MediaDesign//MediaDesign.at//DE
CALSCALE:GREGORIAN
BEGIN:VEVENT
DTSTART:20260513T190000
DTEND:20260513T200000
LOCATION:A-3580 Horn\, Spitalgasse 10
DTSTAMP:20260420T042044
SUMMARY:Gruppentreffen
URL;VALUE=URI:https://horn.gv.at
DESCRIPTION:Selbsthilfegruppe Wolkenlos Horn
UID:20260420T042044-20260513T190000-20260513T200000
END:VEVENT
END:VCALENDAR