BEGIN:VCALENDAR
VERSION:2.0
PRODID:-//MediaDesign//MediaDesign.at//DE
CALSCALE:GREGORIAN
BEGIN:VEVENT
DTSTART:20260522T193000
DTEND:20260522T203000
LOCATION:Altbachweg 10\, 3580 Horn
DTSTAMP:20260420T220623
SUMMARY:SV Horn gegen SR Donaufeld
URL;VALUE=URI:https://horn.gv.at
DESCRIPTION:Regionalliga Ost
UID:20260420T220623-20260522T193000-20260522T203000
END:VEVENT
END:VCALENDAR