BEGIN:VCALENDAR
VERSION:2.0
PRODID:-//MediaDesign//MediaDesign.at//DE
CALSCALE:GREGORIAN
BEGIN:VEVENT
DTSTART:20260603T140000
DTEND:20260603T150000
LOCATION: Spitalgasse 10\, 3580 Horn
DTSTAMP:20260422T112608
SUMMARY:Parkinson Selbsthilfe 
URL;VALUE=URI:https://horn.gv.at
DESCRIPTION:Film von und mit Parkinsonerkrankte
UID:20260422T112608-20260603T140000-20260603T150000
END:VEVENT
END:VCALENDAR