BEGIN:VCALENDAR
VERSION:2.0
PRODID:-//MediaDesign//MediaDesign.at//DE
CALSCALE:GREGORIAN
BEGIN:VEVENT
DTSTART:20260506T140000
DTEND:20260506T150000
LOCATION: Spitalgasse 10\, 3580 Horn
DTSTAMP:20260419T204644
SUMMARY:Parkinson Selbsthilfe 
URL;VALUE=URI:https://horn.gv.at
DESCRIPTION:Vortrag ber Faszien
UID:20260419T204644-20260506T140000-20260506T150000
END:VEVENT
END:VCALENDAR