BEGIN:VCALENDAR
VERSION:2.0
PRODID:-//MediaDesign//MediaDesign.at//DE
CALSCALE:GREGORIAN
BEGIN:VEVENT
DTSTART:20260524T100000
DTEND:20260524T110000
LOCATION:Pragerstraße 14\, 3580 Horn
DTSTAMP:20260421T052400
SUMMARY:70 Jahre Pfadfindergruppe Horn
URL;VALUE=URI:https://horn.gv.at
DESCRIPTION:70 Jahre auf einem guten Pfad 
UID:20260421T052400-20260524T100000-20260524T110000
END:VEVENT
END:VCALENDAR