BEGIN:VCALENDAR
VERSION:2.0
PRODID:-//MediaDesign//MediaDesign.at//DE
CALSCALE:GREGORIAN
BEGIN:VEVENT
DTSTART:20260609T130000
DTEND:20260609T140000
LOCATION:Spitalgasse 25\, 3580 Horn
DTSTAMP:20260422T183234
SUMMARY:Sprechtag KOBV  Behindertenverband
URL;VALUE=URI:https://horn.gv.at
DESCRIPTION:
UID:20260422T183234-20260609T130000-20260609T140000
END:VEVENT
END:VCALENDAR