BEGIN:VCALENDAR
VERSION:2.0
PRODID:-//MediaDesign//MediaDesign.at//DE
CALSCALE:GREGORIAN
BEGIN:VEVENT
DTSTART:20260512T130000
DTEND:20260512T140000
LOCATION:Spitalgasse 25\, 3580 Horn
DTSTAMP:20260419T232740
SUMMARY:Sprechtag KOBV  Behindertenverband
URL;VALUE=URI:https://horn.gv.at
DESCRIPTION:
UID:20260419T232740-20260512T130000-20260512T140000
END:VEVENT
END:VCALENDAR