BEGIN:VCALENDAR
VERSION:2.0
PRODID:-//MediaDesign//MediaDesign.at//DE
CALSCALE:GREGORIAN
BEGIN:VEVENT
DTSTART:20190822T000000
DTEND:20190822T010000
LOCATION:Rathausplatz 4\, 3580 Horn
DTSTAMP:20260424T013704
SUMMARY:Platzlfest 2019
URL;VALUE=URI:https://horn.gv.at
DESCRIPTION:am Rathausplatz
UID:20260424T013704-20190822T000000-20190822T010000
END:VEVENT
END:VCALENDAR