BEGIN:VCALENDAR
VERSION:2.0
PRODID:-//MediaDesign//MediaDesign.at//DE
CALSCALE:GREGORIAN
BEGIN:VEVENT
DTSTART:20251210T180000
DTEND:20251210T190000
LOCATION:Spitalgasse 10\, 3580 Horn
DTSTAMP:20260421T162446
SUMMARY:Frauenselbsthilfe nach Krebs
URL;VALUE=URI:https://horn.gv.at
DESCRIPTION:Gesprchsrunde
UID:20260421T162446-20251210T180000-20251210T190000
END:VEVENT
END:VCALENDAR