BEGIN:VCALENDAR
VERSION:2.0
PRODID:-//MediaDesign//MediaDesign.at//DE
CALSCALE:GREGORIAN
BEGIN:VEVENT
DTSTART:20250709T183000
DTEND:20250709T193000
LOCATION:Wiener Straße 4\, 3580 Horn
DTSTAMP:20260422T061244
SUMMARY:Museumsmittwoch
URL;VALUE=URI:https://horn.gv.at
DESCRIPTION:Dr Erich Rabl
UID:20260422T061244-20250709T183000-20250709T193000
END:VEVENT
END:VCALENDAR