BEGIN:VCALENDAR
VERSION:2.0
PRODID:-//MediaDesign//MediaDesign.at//DE
CALSCALE:GREGORIAN
BEGIN:VEVENT
DTSTART:20250702T183000
DTEND:20250702T193000
LOCATION:Wiener Straße 4
DTSTAMP:20260421T160221
SUMMARY:Museums mittwoch
URL;VALUE=URI:https://horn.gv.at
DESCRIPTION:Kooperation Ns SenMuseum
UID:20260421T160221-20250702T183000-20250702T193000
END:VEVENT
END:VCALENDAR