BEGIN:VCALENDAR
VERSION:2.0
PRODID:-//MediaDesign//MediaDesign.at//DE
CALSCALE:GREGORIAN
BEGIN:VEVENT
DTSTART:20250709T170000
DTEND:20250709T180000
LOCATION:Kieselbreitengasse 18
DTSTAMP:20260422T044942
SUMMARY:Nordic Walking
URL;VALUE=URI:https://horn.gv.at
DESCRIPTION:mit Maria
UID:20260422T044942-20250709T170000-20250709T180000
END:VEVENT
END:VCALENDAR