BEGIN:VCALENDAR
VERSION:2.0
PRODID:-//MediaDesign//MediaDesign.at//DE
CALSCALE:GREGORIAN
BEGIN:VEVENT
DTSTART:20250703T150000
DTEND:20250703T160000
LOCATION:Kieselbreitengasse 18
DTSTAMP:20260421T185345
SUMMARY:Radtour mit ErichUwe
URL;VALUE=URI:https://horn.gv.at
DESCRIPTION:Ausfahrten im Juli und August
UID:20260421T185345-20250703T150000-20250703T160000
END:VEVENT
END:VCALENDAR