BEGIN:VCALENDAR
VERSION:2.0
PRODID:-//MediaDesign//MediaDesign.at//DE
CALSCALE:GREGORIAN
BEGIN:VEVENT
DTSTART:20250712T090000
DTEND:20250712T100000
LOCATION:Hauptplatz\, 3580 Horn
DTSTAMP:20260422T134621
SUMMARY:Regionalmarkt Horn
URL;VALUE=URI:https://horn.gv.at
DESCRIPTION:
UID:20260422T134621-20250712T090000-20250712T100000
END:VEVENT
END:VCALENDAR