BEGIN:VCALENDAR
VERSION:2.0
PRODID:-//MediaDesign//MediaDesign.at//DE
CALSCALE:GREGORIAN
BEGIN:VEVENT
DTSTART:20250623T193000
DTEND:20250623T203000
LOCATION:Canisiusgasse 1\, 3580 Horn
DTSTAMP:20260421T020030
SUMMARY:Gesundheit ist kein Zufall
URL;VALUE=URI:https://horn.gv.at
DESCRIPTION:
UID:20260421T020030-20250623T193000-20250623T203000
END:VEVENT
END:VCALENDAR