BEGIN:VCALENDAR
VERSION:2.0
PRODID:-//MediaDesign//MediaDesign.at//DE
CALSCALE:GREGORIAN
BEGIN:VEVENT
DTSTART:20250704T160000
DTEND:20250704T170000
LOCATION:Wiener Straße 2\, 3580 Horn
DTSTAMP:20260421T204554
SUMMARY:Ausstellung  La BreM 
URL;VALUE=URI:https://horn.gv.at
DESCRIPTION:Popup Galerie
UID:20260421T204554-20250704T160000-20250704T170000
END:VEVENT
END:VCALENDAR