BEGIN:VCALENDAR
VERSION:2.0
PRODID:-//MediaDesign//MediaDesign.at//DE
CALSCALE:GREGORIAN
BEGIN:VEVENT
DTSTART:20250628T170000
DTEND:20250628T180000
LOCATION:Wiener Straße 2\, 3580 Horn
DTSTAMP:20260421T130343
SUMMARY:Vernissage  La BreM 
URL;VALUE=URI:https://horn.gv.at
DESCRIPTION:Popup Galerie
UID:20260421T130343-20250628T170000-20250628T180000
END:VEVENT
END:VCALENDAR