BEGIN:VCALENDAR
VERSION:2.0
PRODID:-//MediaDesign//MediaDesign.at//DE
CALSCALE:GREGORIAN
BEGIN:VEVENT
DTSTART:20250621T100000
DTEND:20250621T110000
LOCATION:Wiener Straße 2\, 3580 Horn
DTSTAMP:20260420T172815
SUMMARY:Ausstellung  Mag Helmuth Grff
URL;VALUE=URI:https://horn.gv.at
DESCRIPTION:Popup Galerie
UID:20260420T172815-20250621T100000-20250621T110000
END:VEVENT
END:VCALENDAR