BEGIN:VCALENDAR
VERSION:2.0
PRODID:-//MediaDesign//MediaDesign.at//DE
CALSCALE:GREGORIAN
BEGIN:VEVENT
DTSTART:20250620T160000
DTEND:20250620T170000
LOCATION:Wiener Straße 2\, 3580 Horn
DTSTAMP:20260420T140424
SUMMARY:Ausstellung  Mag Helmuth Grff
URL;VALUE=URI:https://horn.gv.at
DESCRIPTION:Popup Galerie
UID:20260420T140424-20250620T160000-20250620T170000
END:VEVENT
END:VCALENDAR