BEGIN:VCALENDAR
VERSION:2.0
PRODID:-//MediaDesign//MediaDesign.at//DE
CALSCALE:GREGORIAN
BEGIN:VEVENT
DTSTART:20250711T113000
DTEND:20250711T123000
LOCATION:Spitalgasse 10a\, 3580 Horn
DTSTAMP:20260422T104748
SUMMARY:Grillfest Caritas Werkstatt
URL;VALUE=URI:https://horn.gv.at
DESCRIPTION:
UID:20260422T104748-20250711T113000-20250711T123000
END:VEVENT
END:VCALENDAR