BEGIN:VCALENDAR
VERSION:2.0
PRODID:-//MediaDesign//MediaDesign.at//DE
CALSCALE:GREGORIAN
BEGIN:VEVENT
DTSTART:20250628T140000
DTEND:20250628T150000
LOCATION:Stadtseepromenade 1\, 3580 Horn
DTSTAMP:20260421T113558
SUMMARY:Stadtseefest
URL;VALUE=URI:https://horn.gv.at
DESCRIPTION:
UID:20260421T113558-20250628T140000-20250628T150000
END:VEVENT
END:VCALENDAR