BEGIN:VCALENDAR
VERSION:2.0
PRODID:-//MediaDesign//MediaDesign.at//DE
CALSCALE:GREGORIAN
BEGIN:VEVENT
DTSTART:20250619T190000
DTEND:20250619T200000
LOCATION:Altbachweg 10\, 3580 Horn
DTSTAMP:20260420T124425
SUMMARY:Flutlichtturnier
URL;VALUE=URI:https://horn.gv.at
DESCRIPTION:
UID:20260420T124425-20250619T190000-20250619T200000
END:VEVENT
END:VCALENDAR