BEGIN:VCALENDAR
VERSION:2.0
PRODID:-//MediaDesign//MediaDesign.at//DE
CALSCALE:GREGORIAN
BEGIN:VEVENT
DTSTART:20250620T180000
DTEND:20250620T190000
LOCATION:Prager Str. 14\, 3580 Horn
DTSTAMP:20260420T154506
SUMMARY:Abschlusslagerfeuer 
URL;VALUE=URI:https://horn.gv.at
DESCRIPTION:Pfadfinder
UID:20260420T154506-20250620T180000-20250620T190000
END:VEVENT
END:VCALENDAR