BEGIN:VCALENDAR
VERSION:2.0
PRODID:-//MediaDesign//MediaDesign.at//DE
CALSCALE:GREGORIAN
BEGIN:VEVENT
DTSTART:20250621T150000
DTEND:20250621T160000
LOCATION:Thurnhofgasse 19\, 3580 Horn
DTSTAMP:20260420T190439
SUMMARY:Begegnungscaf 
URL;VALUE=URI:https://horn.gv.at
DESCRIPTION:Willkommen Mensch in Horn
UID:20260420T190439-20250621T150000-20250621T160000
END:VEVENT
END:VCALENDAR