BEGIN:VCALENDAR
VERSION:2.0
PRODID:-//MediaDesign//MediaDesign.at//DE
CALSCALE:GREGORIAN
BEGIN:VEVENT
DTSTART:20250622T110000
DTEND:20250622T120000
LOCATION:Robert-Hamerling-Straße 9\, 3580 Horn
DTSTAMP:20260421T001032
SUMMARY:GMV Orchesterkonzert
URL;VALUE=URI:https://horn.gv.at
DESCRIPTION:Matinee
UID:20260421T001032-20250622T110000-20250622T120000
END:VEVENT
END:VCALENDAR