BEGIN:VCALENDAR
VERSION:2.0
PRODID:-//MediaDesign//MediaDesign.at//DE
CALSCALE:GREGORIAN
BEGIN:VEVENT
DTSTART:20250711T140000
DTEND:20250711T150000
LOCATION:3580 Horn
DTSTAMP:20260422T121025
SUMMARY:AVSCHNUPPERKLETTERN
URL;VALUE=URI:https://horn.gv.at
DESCRIPTION:im Taffatal
UID:20260422T121025-20250711T140000-20250711T150000
END:VEVENT
END:VCALENDAR