BEGIN:VCALENDAR
VERSION:2.0
PRODID:-//MediaDesign//MediaDesign.at//DE
CALSCALE:GREGORIAN
BEGIN:VEVENT
DTSTART:20250704T170000
DTEND:20250704T180000
LOCATION:3580 Horn\, Canisiusgasse
DTSTAMP:20260421T223048
SUMMARY:Treffpunkt Tanz
URL;VALUE=URI:https://horn.gv.at
DESCRIPTION:Tanzen macht Spa und hlt fit
UID:20260421T223048-20250704T170000-20250704T180000
END:VEVENT
END:VCALENDAR