BEGIN:VCALENDAR
VERSION:2.0
PRODID:-//MediaDesign//MediaDesign.at//DE
CALSCALE:GREGORIAN
BEGIN:VEVENT
DTSTART:20250703T090000
DTEND:20250703T100000
LOCATION:3580 Horn\, Canisiusgasse
DTSTAMP:20260421T172323
SUMMARY:Treffpunkt Tanz
URL;VALUE=URI:https://horn.gv.at
DESCRIPTION:Tanzen macht Spa und hlt fit
UID:20260421T172323-20250703T090000-20250703T100000
END:VEVENT
END:VCALENDAR