BEGIN:VCALENDAR
VERSION:2.0
PRODID:-//MediaDesign//MediaDesign.at//DE
CALSCALE:GREGORIAN
BEGIN:VEVENT
DTSTART:20250627T090000
DTEND:20250627T100000
LOCATION:Am Kuhberg 5\, 3580 Frauenhofen
DTSTAMP:20260421T082828
SUMMARY:Lange Einkaufsnacht
URL;VALUE=URI:https://horn.gv.at
DESCRIPTION:im Shopping Horn
UID:20260421T082828-20250627T090000-20250627T100000
END:VEVENT
END:VCALENDAR