BEGIN:VCALENDAR
VERSION:2.0
PRODID:-//MediaDesign//MediaDesign.at//DE
CALSCALE:GREGORIAN
BEGIN:VEVENT
DTSTART:20250518T090000
DTEND:20250518T100000
LOCATION:3580 Horn
DTSTAMP:20260417T191743
SUMMARY:AVWanderung
URL;VALUE=URI:https://horn.gv.at
DESCRIPTION:ManhartsbergRunde Etappe 7
UID:20260417T191743-20250518T090000-20250518T100000
END:VEVENT
END:VCALENDAR