BEGIN:VCALENDAR
VERSION:2.0
PRODID:-//MediaDesign//MediaDesign.at//DE
CALSCALE:GREGORIAN
BEGIN:VEVENT
DTSTART:20250624T100000
DTEND:20250624T110000
LOCATION:Prof.-Karl-Scholz-Straße 26\, 3580 Horn
DTSTAMP:20260421T034357
SUMMARY:Pensionistentreffen
URL;VALUE=URI:https://horn.gv.at
DESCRIPTION:Radwandertag
UID:20260421T034357-20250624T100000-20250624T110000
END:VEVENT
END:VCALENDAR