BEGIN:VCALENDAR
VERSION:2.0
PRODID:-//MediaDesign//MediaDesign.at//DE
CALSCALE:GREGORIAN
BEGIN:VEVENT
DTSTART:20250710T190000
DTEND:20250710T200000
LOCATION:A-3580 Horn\, Spitalgasse 10
DTSTAMP:20260422T091301
SUMMARY:Gruppentreffen
URL;VALUE=URI:https://horn.gv.at
DESCRIPTION:Selbsthilfegruppe Wolkenlos Horn
UID:20260422T091301-20250710T190000-20250710T200000
END:VEVENT
END:VCALENDAR