BEGIN:VCALENDAR
VERSION:2.0
PRODID:-//MediaDesign//MediaDesign.at//DE
CALSCALE:GREGORIAN
BEGIN:VEVENT
DTSTART:20240419T000000
DTEND:20240419T010000
LOCATION:Gartengasse 1\, 3580 Horn
DTSTAMP:20260422T140202
SUMMARY:HLWFWEWF  Schulanmeldung
URL;VALUE=URI:https://horn.gv.at
DESCRIPTION:
UID:20260422T140202-20240419T000000-20240419T010000
END:VEVENT
END:VCALENDAR