BEGIN:VCALENDAR
VERSION:2.0
PRODID:-//MediaDesign//MediaDesign.at//DE
CALSCALE:GREGORIAN
BEGIN:VEVENT
DTSTART:20240421T150000
DTEND:20240421T160000
LOCATION:3580 Horn
DTSTAMP:20260422T211901
SUMMARY:Circus Don Eduardo
URL;VALUE=URI:https://horn.gv.at
DESCRIPTION:
UID:20260422T211901-20240421T150000-20240421T160000
END:VEVENT
END:VCALENDAR