BEGIN:VCALENDAR
VERSION:2.0
PRODID:-//MediaDesign//MediaDesign.at//DE
CALSCALE:GREGORIAN
BEGIN:VEVENT
DTSTART:20240414T100000
DTEND:20240414T110000
LOCATION:Robert-Hamerling-Straße 1    3580 Horn    Eingang über Ferdinand-Kurz-Gasse
DTSTAMP:20260422T045650
SUMMARY:SelbstverteidigungsKurs
URL;VALUE=URI:https://horn.gv.at
DESCRIPTION:10  12 Uhr
UID:20260422T045650-20240414T100000-20240414T110000
END:VEVENT
END:VCALENDAR